BEGIN:VCALENDAR
VERSION:2.0
PRODID:-//Watertown Development Company - ECPv6.15.19//NONSGML v1.0//EN
CALSCALE:GREGORIAN
METHOD:PUBLISH
X-WR-CALNAME:Watertown Development Company
X-ORIGINAL-URL:https://wdcsd.com
X-WR-CALDESC:Events for Watertown Development Company
REFRESH-INTERVAL;VALUE=DURATION:PT1H
X-Robots-Tag:noindex
X-PUBLISHED-TTL:PT1H
BEGIN:VTIMEZONE
TZID:UTC
BEGIN:STANDARD
TZOFFSETFROM:+0000
TZOFFSETTO:+0000
TZNAME:UTC
DTSTART:20250101T000000
END:STANDARD
END:VTIMEZONE
BEGIN:VEVENT
DTSTART;TZID=UTC:20260407T100000
DTEND;TZID=UTC:20260407T110000
DTSTAMP:20260425T163916
CREATED:20260401T160730Z
LAST-MODIFIED:20260401T160730Z
UID:5111-1775556000-1775559600@wdcsd.com
SUMMARY:APEX Accelerator: Intro to Federal Government Contracting
DESCRIPTION:APEX Accelerator: Intro to Federal Government Contracting \nTuesday\, April 7\, 2026 (Online Only)\nTime: 10:00 AM — 11:00 AM CST\nDescription: Join us for an insightful and practical webinar hosted by the Nebraska APEX Accelerator. This recurring bi-monthly event offers an introduction to the world of government contracting—a space where small businesses can thrive and scale. During this session\, you’ll gain valuable insights into: \n\nNavigating government requirements and certifications\nEssential websites and resources for contracting opportunities\nKey steps to determine if government contracting aligns with your business goals\n\nWhether you’re just starting to explore government sales or looking to expand your current market\, this webinar provides the foundational knowledge to help you make informed decisions.\nCost: Free\nLocation: Online\nQuestions contact: Veronica Doga\, vdoga@unomaha.edu\, (402) 554-6253\nRegistration Link: https://nbdc.ecenterdirect.com/events/10333
URL:https://wdcsd.com/event/apex-accelerator-intro-to-federal-government-contracting-5/
END:VEVENT
BEGIN:VEVENT
DTSTART;TZID=UTC:20260407T100000
DTEND;TZID=UTC:20260407T113000
DTSTAMP:20260425T163916
CREATED:20260401T160805Z
LAST-MODIFIED:20260401T160805Z
UID:5113-1775556000-1775561400@wdcsd.com
SUMMARY:SCORE: Learn How to Set Up QuickBooks for Your Nonprofit
DESCRIPTION:SCORE: Learn How to Set Up QuickBooks for Your Nonprofit \nTuesday\, April 7\, 2026 (Online Only)\nTime: 10:00 AM — 11:30 PM CDT\nDescription: The webinar will go through how to set up QuickBooks for your Nonprofit Organization. We will go through the initial system set-up including establishing a chart of accounts for ease of reporting requirements for tax\, board and donor reporting. Attendees will be provided with a guide to setting up accounts along with links to videos that illustrate this in QuickBooks. They will also be provided with a checklist list of best practices to follow when setting up their organization.\nCost: $10.00\nLocation: Online\nQuestions contact: SCORE\, 1-800-634-0245\nRegistration Link: https://www.score.org/northchicago/event/04-07-26-learn-how-set-quickbooks-your-nonprofit
URL:https://wdcsd.com/event/score-learn-how-to-set-up-quickbooks-for-your-nonprofit/
END:VEVENT
BEGIN:VEVENT
DTSTART;TZID=UTC:20260407T120000
DTEND;TZID=UTC:20260407T130000
DTSTAMP:20260425T163916
CREATED:20260401T160842Z
LAST-MODIFIED:20260401T160842Z
UID:5115-1775563200-1775566800@wdcsd.com
SUMMARY:SCORE: Event Marketing Playbook - Turn Event Traffic into Sales
DESCRIPTION:SCORE: Event Marketing Playbook – Turn Event Traffic into Sales \nTuesday\, April 7\, 2026 (Online Only)\nTime: 12:00 PM — 1:00 PM CDT\nDescription: Major events like the FIFA World Cup\, the Olympics\, large conventions\, trade shows\, and festivals can bring thousands of potential new customers into your area. If your business plans on taking advantage of a local event\, you can’t rely on your normal marketing strategy. In this webinar\, you’ll learn how to build a marketing plan designed specifically for major events happening near your business. We’ll walk through practical ways to combine digital marketing with physical visibility so your business shows when attendees are looking around or online. You’ll also receive simple tools and templates to help you organize your promotions and prepare your marketing well before the event begins. In this webinar\, you will learn how to: \n\nDesign digital and onsite marketing strategies that attract event attendees\nLeverage signage\, displays\, and branded materials for maximum visibility\nCombine online promotions with physical marketing for stronger results\nTurn event traffic into paying customers\nUse simple templates and tools to organize your event marketing efforts\nBuild a preparation and promotion calendar before the event begins\n\nCost: Free\nLocation: Online\nQuestions contact: SCORE\, 1-800-634-0245\nRegistration Link: https://www.score.org/event/event-marketing-playbook-turn-event-traffic-sales
URL:https://wdcsd.com/event/score-event-marketing-playbook-turn-event-traffic-into-sales/
END:VEVENT
BEGIN:VEVENT
DTSTART;TZID=UTC:20260407T183000
DTEND;TZID=UTC:20260407T200000
DTSTAMP:20260425T163916
CREATED:20260401T160940Z
LAST-MODIFIED:20260401T160940Z
UID:5117-1775586600-1775592000@wdcsd.com
SUMMARY:SCORE: Assessing Cyber Risks: Play Cyber Jeopardy and Protect Your Business!
DESCRIPTION:SCORE: Assessing Cyber Risks: Play Cyber Jeopardy and Protect Your Business! \nTuesday\, April 7\, 2026 (Online Only)\nTime: 6:30 PM — 8:00 PM CDT\nDescription: Join us for a fun\, interactive webinar where you will learn how to prepare your small business for the most common cyber threats. You will also get a chance to play Cyber Jeopardy to test your knowledge on all things cyber! Cybercriminals target small businesses every day\, and knowing what you should do to defend yourself can be overwhelming. This is especially true when you are trying to figure out what to budget for. The good news is you can anticipate and prepare for most incidents by conducting a simple Cyber Risk Assessment. In this session\, cybersecurity expert John Germain will walk you through an easy\, non-technical process to identify risks specific to your business. Knowing where to spend your precious resources means you are protecting your business against the threats that matter most. \nWhat You’ll Learn: \n\nThe key questions every small business owner should ask about cyber risk.\nA clear\, step-by-step process to assess your risks and create an action plan tailored to your business.\nHow to prioritize your risks so you can tackle the most critical vulnerabilities first.\nPLUS: Cyber Jeopardy!\n\nWho Should Attend? \n\nSmall business owners who want to protect their business without the jargon.\nEntrepreneurs who think they’re “too small” to be a target (spoiler: you’re not!).\nAnyone looking for practical\, budget-friendly cybersecurity tips.\nCost: $10.00\nLocation: Online\nQuestions contact: SCORE\, 1-800-634-0245\nRegistration Link: https://www.score.org/northchicago/event/04-07-26-assessing-cyber-risks-play-cyber-jeopardy-and-protect-your-business
URL:https://wdcsd.com/event/score-assessing-cyber-risks-play-cyber-jeopardy-and-protect-your-business/
END:VEVENT
END:VCALENDAR