BEGIN:VCALENDAR
VERSION:2.0
PRODID:-//Watertown Development Company - ECPv6.15.19//NONSGML v1.0//EN
CALSCALE:GREGORIAN
METHOD:PUBLISH
X-WR-CALNAME:Watertown Development Company
X-ORIGINAL-URL:https://wdcsd.com
X-WR-CALDESC:Events for Watertown Development Company
REFRESH-INTERVAL;VALUE=DURATION:PT1H
X-Robots-Tag:noindex
X-PUBLISHED-TTL:PT1H
BEGIN:VTIMEZONE
TZID:UTC
BEGIN:STANDARD
TZOFFSETFROM:+0000
TZOFFSETTO:+0000
TZNAME:UTC
DTSTART:20250101T000000
END:STANDARD
END:VTIMEZONE
BEGIN:VEVENT
DTSTART;TZID=UTC:20260402T120000
DTEND;TZID=UTC:20260402T130000
DTSTAMP:20260425T163941
CREATED:20260401T160603Z
LAST-MODIFIED:20260401T160603Z
UID:5107-1775131200-1775134800@wdcsd.com
SUMMARY:SCORE: Bookkeeping Essentials Every Small Business Owner Needs
DESCRIPTION:SCORE: Bookkeeping Essentials Every Small Business Owner Needs \nThursday\, April 2\, 2026 (Online Only)\nTime: 12:00 PM — 1:00 PM CDT\nDescription: Effective bookkeeping is the foundation of any financially healthy small business. Without accurate\, consistent reporting\, it becomes impossible to manage cash flow\, prepare for taxes\, or make informed financial decisions. In this webinar\, you’ll learn how bookkeeping works and how to turn it into a simple\, manageable process you can stay on top of. We’ll show you how to keep your books consistent\, which financial reports you should review regularly\, and the habits that help prevent minor mistakes from turning into costly problems. You’ll also learn how to keep your records organized year-round to make tax time easier\, ensuring your estimated payments are more accurate and avoiding unnecessary surprises. By the end of this webinar\, you will be able to: \n\nUnderstand how bookkeeping works and how it differs from accounting\nRecognize the difference between single-entry and double-entry systems\nChoose between cash and accrual accounting based on your business needs\nIdentify the three key financial statements and how often to review them\nUse clean books to support tax deductions\, estimated payments\, and fewer surprises\n\nCost: Free\nLocation: Online\nQuestions contact: SCORE\, 1-800-634-0245\nRegistration Link: https://www.score.org/event/bookkeeping-essentials-every-small-business-owner-needs
URL:https://wdcsd.com/event/score-bookkeeping-essentials-every-small-business-owner-needs/
END:VEVENT
BEGIN:VEVENT
DTSTART;TZID=UTC:20260402T120000
DTEND;TZID=UTC:20260402T133000
DTSTAMP:20260425T163941
CREATED:20260401T160649Z
LAST-MODIFIED:20260401T160649Z
UID:5109-1775131200-1775136600@wdcsd.com
SUMMARY:APEX Accelerator: An Introduction to Government Small Business Certifications (2026 Update)
DESCRIPTION:APEX Accelerator: An Introduction to Government Small Business Certifications (2026 Update) \nThursday\, April 2\, 2026 (Online Only)\nTime: 12:00 PM — 1:30 PM CDT\nDescription: This webinar provides a comprehensive overview of small business certifications in the government marketplace\, helping participants understand how these programs can open doors to new contracting opportunities. You’ll learn about key federal certification programs\, including Small Business Self-Certification\, Small Disadvantaged Business (SDB) & 8(a)\, Service-Disabled Veteran-Owned Small Business (SDVOSB)\, Veteran-Owned Small Business (VOSB)\, Historically Underutilized Business Zones (HUBZone)\, Woman-Owned Small Business (WOSB)\, and Economically Disadvantaged Woman-Owned Small Business (EDWOSB). The course has been updated to include the latest developments from the Revolutionary FAR Overhaul (RFO)\, recent SBA regulatory and enforcement updates\, and Congressional legislation. In addition to federal programs\, you’ll also gain insights into state and local certification programs\, learning how they differ and where to find the right opportunities for your business. \nAfter Taking This Course\, You Will: \n\nUnderstand why certification programs are valuable for small businesses\nDetermine your eligibility for federal certifications\nUnderstand how the current administration’s policies have impacted SBA’s certification programs\nLearn where and how to apply\, including through the SBA’s unified certification website\nExplore state and local certification options and how they differ from federal programs\nDiscover additional resources to support your certification journey\n\nTarget Audience: Small business contractors pursuing opportunities in the government marketplace.\nCost: Free\nLocation: Online\nQuestions contact: Veronica Doga\, nebraskaAPEX@unomaha.edu\, (402) 554-6253\nRegistration Link: https://nbdc.ecenterdirect.com/events/10338
URL:https://wdcsd.com/event/apex-accelerator-an-introduction-to-government-small-business-certifications-2026-update/
END:VEVENT
END:VCALENDAR