BEGIN:VCALENDAR
VERSION:2.0
PRODID:-//Watertown Development Company - ECPv6.15.19//NONSGML v1.0//EN
CALSCALE:GREGORIAN
METHOD:PUBLISH
X-ORIGINAL-URL:https://wdcsd.com
X-WR-CALDESC:Events for Watertown Development Company
REFRESH-INTERVAL;VALUE=DURATION:PT1H
X-Robots-Tag:noindex
X-PUBLISHED-TTL:PT1H
BEGIN:VTIMEZONE
TZID:UTC
BEGIN:STANDARD
TZOFFSETFROM:+0000
TZOFFSETTO:+0000
TZNAME:UTC
DTSTART:20250101T000000
END:STANDARD
END:VTIMEZONE
BEGIN:VEVENT
DTSTART;TZID=UTC:20260331T120000
DTEND;TZID=UTC:20260331T133000
DTSTAMP:20260425T164233
CREATED:20260303T184816Z
LAST-MODIFIED:20260303T184816Z
UID:5034-1774958400-1774963800@wdcsd.com
SUMMARY:APEX Accelerator: Foreign Ownership\, Control or Influence (FOCI) Rules for Federal Contractors (2026 Update)
DESCRIPTION:Tuesday\, March 31\, 2026 (Online Only) \nTime: 12:00 – 1:30 p.m. CDT \nAPEX Accelerator: Foreign Ownership\, Control or Influence (FOCI) Rules for Federal Contractors (2026 Update) \nDescription: Government Industrial Base (GIB) Readiness. Could foreign ownership—even indirectly—put your contracts at risk? If your company performs classified work\, partners with foreign investors\, has overseas affiliates\, or is considering outside funding\, Foreign Ownership\, Control\, or Influence (FOCI) rules may apply to you. And the stakes are rising. In 2026\, the Department of War (DoW) is expected to release its “Section 847” rules\, expanding FOCI principles to certain unclassified prime contracts and subcontracts valued at $5 million or more. As a result\, companies that have never had to consider FOCI may soon need to do so. Why This Matters for Contractors. FOCI issues can: \n\nDelay or block contract awards\nPrevent access to classified work\nTrigger additional reporting and compliance requirements\nImpact eligibility for certain programs\n\nUnder Section 847\, FOCI considerations may also extend further into the supply chain than many contractors expect. Understanding these rules before they affect your eligibility is far better than discovering them in the middle of an award process. What You’ll Learn: \n\nWhich federal contracts are subject to FOCI rules?\nHow will Section 847 apply FOCI principles to unclassified DoW contracts and subcontracts?\nHow does the government evaluate whether a contractor is operating under foreign ownership\, influence\, or control?\nWhat responsibilities do a contractor or potential contractor have to identify and report FOCI concerns?\nHow can a contractor mitigate an actual or potential FOCI problem?\nWhat are some common misconceptions about the FOCI rules?\nHow do FOCI concepts apply to the Small Business Innovation Research (SBIR) and Small Business Technology Transfer (STTR) programs?\n\nWho Should Attend? \n\nContractors performing or pursuing classified work\nCompanies with foreign investors\, parent companies\, or affiliates\nSmall businesses seeking DoW prime or subcontract awards\nSBIR/STTR participants\nGrowth and compliance leaders monitoring regulatory risk\n\nIf your business touches defense\, classified information\, or international ownership in any way\, this is an issue you can’t afford to misunderstand. This session will help you identify potential exposure early and position your company to stay eligible and competitive. \nCost: Free \nLocation: Online \nQuestions contact: Veronica Doga\, nebraskaAPEX@unomaha.edu \nRegistration Link: https://www.sba.gov/event/81158 \n 
URL:https://wdcsd.com/event/apex-accelerator-foreign-ownership-control-or-influence-foci-rules-for-federal-contractors-2026-update/
END:VEVENT
END:VCALENDAR