BEGIN:VCALENDAR
VERSION:2.0
PRODID:-//Watertown Development Company - ECPv6.15.19//NONSGML v1.0//EN
CALSCALE:GREGORIAN
METHOD:PUBLISH
X-WR-CALNAME:Watertown Development Company
X-ORIGINAL-URL:https://wdcsd.com
X-WR-CALDESC:Events for Watertown Development Company
REFRESH-INTERVAL;VALUE=DURATION:PT1H
X-Robots-Tag:noindex
X-PUBLISHED-TTL:PT1H
BEGIN:VTIMEZONE
TZID:UTC
BEGIN:STANDARD
TZOFFSETFROM:+0000
TZOFFSETTO:+0000
TZNAME:UTC
DTSTART:20250101T000000
END:STANDARD
END:VTIMEZONE
BEGIN:VEVENT
DTSTART;TZID=UTC:20260326T120000
DTEND;TZID=UTC:20260326T130000
DTSTAMP:20260425T182427
CREATED:20260303T184740Z
LAST-MODIFIED:20260303T184740Z
UID:5032-1774526400-1774530000@wdcsd.com
SUMMARY:APEX Accelerator: Defense Production Act Title III (2026 Update)
DESCRIPTION:Thursday\, March 26\, 2026 (Online Only) \nTime: 12:00 – 1:00 p.m. CDT \nAPEX Accelerator: Defense Production Act Title III (2026 Update) \nDescription: Government Industrial Base (GIB) Readiness \nCost: Free \nLocation: Online \nQuestions contact: Veronica Doga\, nebraskaAPEX@unomaha.edu \nRegistration Link: https://www.sba.gov/event/81157
URL:https://wdcsd.com/event/apex-accelerator-defense-production-act-title-iii-2026-update/
END:VEVENT
END:VCALENDAR