BEGIN:VCALENDAR
VERSION:2.0
PRODID:-//Watertown Development Company - ECPv6.15.19//NONSGML v1.0//EN
CALSCALE:GREGORIAN
METHOD:PUBLISH
X-ORIGINAL-URL:https://wdcsd.com
X-WR-CALDESC:Events for Watertown Development Company
REFRESH-INTERVAL;VALUE=DURATION:PT1H
X-Robots-Tag:noindex
X-PUBLISHED-TTL:PT1H
BEGIN:VTIMEZONE
TZID:UTC
BEGIN:STANDARD
TZOFFSETFROM:+0000
TZOFFSETTO:+0000
TZNAME:UTC
DTSTART:20250101T000000
END:STANDARD
END:VTIMEZONE
BEGIN:VEVENT
DTSTART;TZID=UTC:20260325T113000
DTEND;TZID=UTC:20260325T123000
DTSTAMP:20260425T182736
CREATED:20251217T220649Z
LAST-MODIFIED:20251217T220649Z
UID:4842-1774438200-1774441800@wdcsd.com
SUMMARY:SBA: Money Smart ~ Risk Management - Planning for What You Can and Cannot Control
DESCRIPTION:Prepare for anything! Learn to spot\, assess\, and manage risks so your small business thrives—no matter what challenges come your way. \nThis module empowers participants to proactively identify\, evaluate\, and manage risks that impact small businesses. Upon completion\, you will be able to: \n• Identify the most common risks facing small businesses \n• Recognize both external and internal factors that influence business risk \n• Pinpoint situations that can create or increase risk for a small business \n• Detect common warning signs that may signal potential risks \n• Implement\, monitor\, and evaluate an effective risk management plan tailored to your business \nRegister
URL:https://wdcsd.com/event/sba-money-smart-risk-management-planning-for-what-you-can-and-cannot-control/
END:VEVENT
BEGIN:VEVENT
DTSTART;TZID=UTC:20260325T113000
DTEND;TZID=UTC:20260325T123000
DTSTAMP:20260425T182736
CREATED:20260303T184705Z
LAST-MODIFIED:20260303T184705Z
UID:5030-1774438200-1774441800@wdcsd.com
SUMMARY:SBA: Money Smart ~ Risk Management - Planning for What You Can and Cannot Control
DESCRIPTION:Wednesday\, March 25\, 2026 (Online Only) \nTime: 11:30 a.m. – 12:30 p.m. CDT \nSBA: Money Smart ~ Risk Management – Planning for What You Can and Cannot Control \nDescription: Prepare for anything! Learn to spot\, assess\, and manage risks so your small business thrives—no matter what challenges come your way. This module empowers participants to proactively identify\, evaluate\, and manage risks that impact small businesses. Upon completion\, you will be able to: \n\n Identify the most common risks facing small businesses\n Recognize both external and internal factors that influence business risk\n Pinpoint situations that can create or increase risk for a small business\n Detect common warning signs that may signal potential risks\n Implement\, monitor\, and evaluate an effective risk management plan tailored to your business\n\nCost: Free \nLocation: Online \nQuestions contact: Jo Eckert\, Jo.Eckert@sba.gov 402-221-7200 \nRegistration Link: https://www.sba.gov/event/78137
URL:https://wdcsd.com/event/sba-money-smart-risk-management-planning-for-what-you-can-and-cannot-control-2/
END:VEVENT
END:VCALENDAR