BEGIN:VCALENDAR
VERSION:2.0
PRODID:-//Watertown Development Company - ECPv6.15.19//NONSGML v1.0//EN
CALSCALE:GREGORIAN
METHOD:PUBLISH
X-ORIGINAL-URL:https://wdcsd.com
X-WR-CALDESC:Events for Watertown Development Company
REFRESH-INTERVAL;VALUE=DURATION:PT1H
X-Robots-Tag:noindex
X-PUBLISHED-TTL:PT1H
BEGIN:VTIMEZONE
TZID:UTC
BEGIN:STANDARD
TZOFFSETFROM:+0000
TZOFFSETTO:+0000
TZNAME:UTC
DTSTART:20250101T000000
END:STANDARD
END:VTIMEZONE
BEGIN:VEVENT
DTSTART;TZID=UTC:20260319T120000
DTEND;TZID=UTC:20260319T130000
DTSTAMP:20260425T182719
CREATED:20260303T184512Z
LAST-MODIFIED:20260303T184512Z
UID:5024-1773921600-1773925200@wdcsd.com
SUMMARY:SCORE: Launch a Profitable Newsletter for Your Small Business
DESCRIPTION:Thursday\, March 19\, 2026 (Online Only) \nTime: 12:00 – 1:00 p.m. CDT \nSCORE: Launch a Profitable Newsletter for Your Small Business \nDescription: A well-run newsletter can become one of the easiest profit centers in your business while strengthening customer relationships. Unlike social media\, you aren’t relying on an algorithm\, and you have direct access to your audience. But without a clear plan\, it can quickly become a weekly task that takes time without producing results. In this webinar\, you’ll learn how to generate revenue by launching a newsletter program and what you need in place before you launch. We’ll walk you through how to get started from building an audience\, creating engaging content and avoiding common mistakes. You’ll also learn about monetization options and how to track performance to improve over time. What You’ll Learn: \n\nHow to quickly set up and launch a newsletter without overcomplicating the process\nWhat to put in place before launching\, including how to start building your email list\nContent strategies that get opened\, clicked\, and read\nSales strategies that turn subscribers into paying customers\nHow newsletters actually make money and what to expect in the early stages\nThe key metrics to track so you know what’s working\nCommon mistakes that prevent newsletters from generating revenue\n\nCost: Free \nLocation: Online \nQuestions contact: SCORE\, 800-634-0245 \nRegistration Link: https://www.sba.gov/event/81314
URL:https://wdcsd.com/event/score-launch-a-profitable-newsletter-for-your-small-business/
END:VEVENT
BEGIN:VEVENT
DTSTART;TZID=UTC:20260319T120000
DTEND;TZID=UTC:20260319T133000
DTSTAMP:20260425T182719
CREATED:20260303T184549Z
LAST-MODIFIED:20260303T184549Z
UID:5026-1773921600-1773927000@wdcsd.com
SUMMARY:APEX Accelerator: Unlocking DoD Industrial Base Opportunities: Navigating IBAS\, OTAs\, and the Cornerstone Consortium
DESCRIPTION:Thursday\, March 19\, 2026 (Online Only) \nTime: 12:00 – 1:30 p.m. CDT \nAPEX Accelerator: Unlocking DoD Industrial Base Opportunities: Navigating IBAS\, OTAs\, and the Cornerstone Consortium \nDescription: The Department of Defense is investing billions of dollars to strengthen and expand the United States defense industrial base. These investments span advanced manufacturing\, supply chain resiliency\, workforce development\, automation\, technology innovation\, and critical capability expansion. \nThis training provides a practical roadmap to understanding and engaging directly with the Department of Defense through the Cornerstone Consortium in support of the Department’s Industrial Base Analysis and Sustainment (IBAS) program. We will cover: \n\nWhat the IBAS program is and how it strengthens the defense industrial base\nWhat the DoD is seeking from innovative businesses across manufacturing\, workforce development\, supply chain modernization\, automation\, cybersecurity\, advanced technologies\, and critical infrastructure\nHow the Cornerstone Consortium functions as a gateway into DoD industrial base initiatives\nHow to identify and respond to opportunities posted as Special Notices on SAM.gov\nHow to submit white papers and unsolicited proposals\nHow Other Transaction (OT) agreements under 10 U.S.C. 4022 (DoD\nPrototype OT Authority) enable flexible prototype and expansion projects\nHow to identify and engage other contractors strategically\nKey compliance considerations\n\nWhether you are a manufacturer\, technology developer\, workforce solutions provider\, automation integrator\, cybersecurity firm\, or an innovative company seeking to contribute to strengthening the U.S. industrial base\, this session will show you where the entry points are and how to pursue them intelligently. \nCost: Free \nLocation: Online \nQuestions contact: Veronica Doga\, nebraskaAPEX@unomaha.edu \nRegistration Link: https://www.sba.gov/event/81156
URL:https://wdcsd.com/event/apex-accelerator-unlocking-dod-industrial-base-opportunities-navigating-ibas-otas-and-the-cornerstone-consortium/
END:VEVENT
END:VCALENDAR