BEGIN:VCALENDAR
VERSION:2.0
PRODID:-//Watertown Development Company - ECPv6.15.19//NONSGML v1.0//EN
CALSCALE:GREGORIAN
METHOD:PUBLISH
X-WR-CALNAME:Watertown Development Company
X-ORIGINAL-URL:https://wdcsd.com
X-WR-CALDESC:Events for Watertown Development Company
REFRESH-INTERVAL;VALUE=DURATION:PT1H
X-Robots-Tag:noindex
X-PUBLISHED-TTL:PT1H
BEGIN:VTIMEZONE
TZID:UTC
BEGIN:STANDARD
TZOFFSETFROM:+0000
TZOFFSETTO:+0000
TZNAME:UTC
DTSTART:20250101T000000
END:STANDARD
END:VTIMEZONE
BEGIN:VEVENT
DTSTART;TZID=UTC:20260303T153000
DTEND;TZID=UTC:20260303T170000
DTSTAMP:20260425T182420
CREATED:20260113T183703Z
LAST-MODIFIED:20260113T183703Z
UID:4895-1772551800-1772557200@wdcsd.com
SUMMARY:I Just Want to Sell My Stuff: Simple Tax & Accounting for Entrepreneurs
DESCRIPTION:I Just Want to Sell My Stuff: Simple Tax & Accounting for Entrepreneurs\n\nTuesday\, March 3\, 2026\n3:30 PM  5:00 PM\n\n\nBusiness & Health Innovation Center\, Northern State University1200 S Jay Street Aberdeen\, SD\, 57401United States (map)\n\n\n\n\n\n\n\n\n\n \n\n\n\n\n\n\n\n\n\n\nTake the stress out of your business finances! This workshop breaks down the basics in a simple\, practical way by covering how to set up your books\, what taxes you need to pay attention to\, and the common mistakes new entrepreneurs can easily avoid. You’ll walk away with straightforward systems and tools that make managing your money easier all year long. \nPresenter: Candi Olson\, Northern State University \n\n\n\n\n\nRegister Here
URL:https://wdcsd.com/event/i-just-want-to-sell-my-stuff-simple-tax-accounting-for-entrepreneurs/
END:VEVENT
END:VCALENDAR