BEGIN:VCALENDAR
VERSION:2.0
PRODID:-//Watertown Development Company - ECPv6.15.19//NONSGML v1.0//EN
CALSCALE:GREGORIAN
METHOD:PUBLISH
X-ORIGINAL-URL:https://wdcsd.com
X-WR-CALDESC:Events for Watertown Development Company
REFRESH-INTERVAL;VALUE=DURATION:PT1H
X-Robots-Tag:noindex
X-PUBLISHED-TTL:PT1H
BEGIN:VTIMEZONE
TZID:UTC
BEGIN:STANDARD
TZOFFSETFROM:+0000
TZOFFSETTO:+0000
TZNAME:UTC
DTSTART:20250101T000000
END:STANDARD
END:VTIMEZONE
BEGIN:VEVENT
DTSTART;TZID=UTC:20260226T120000
DTEND;TZID=UTC:20260226T130000
DTSTAMP:20260425T182743
CREATED:20260202T155726Z
LAST-MODIFIED:20260202T155726Z
UID:4975-1772107200-1772110800@wdcsd.com
SUMMARY:SCORE: Health Insurance 101 for Small Business Owners and Startups
DESCRIPTION:Thursday\, February 26\, 2026 (Online Only) \nTime: 12:00 – 1:00 p.m. CST \nSCORE: Health Insurance 101 for Small Business Owners and Startups \nDescription: Navigating health insurance as a solopreneur or small business owner can be overwhelming\, but it doesn’t have to be. Whether you’re exploring coverage for yourself or considering benefits for your first employees\, understanding your options can help you make smarter\, more confident decisions. In this webinar\, our expert presenters will break down everything you need to know about health insurance as a small business. You’ll learn how to compare coverage types\, understand key terms\, and find trusted brokers or agents who can guide you through the process so you can focus on running your business with clarity and confidence. You’ll learn how to: \n\nUnderstand the benefits of offering health insurance to employees\nCompare common types of coverage and what they mean for your business\nNavigate the health insurance marketplace with confidence\nIdentify reputable brokers or agents to help you choose a plan\nDecode key health insurance terms and concepts\n\nCost: Free \nLocation: Online \nQuestions contact: SCORE\, 800-634-0245 \nRegistration Link: https://www.sba.gov/event/80027
URL:https://wdcsd.com/event/score-health-insurance-101-for-small-business-owners-and-startups/
END:VEVENT
BEGIN:VEVENT
DTSTART;TZID=UTC:20260226T120000
DTEND;TZID=UTC:20260226T133000
DTSTAMP:20260425T182743
CREATED:20260202T155755Z
LAST-MODIFIED:20260202T155755Z
UID:4977-1772107200-1772112600@wdcsd.com
SUMMARY:APEX Accelerator: Evolving DoD Contractor Cybersecurity Requirements (Q1-2026 Update)
DESCRIPTION:Thursday\, February 26\, 2026 (Online Only) \nTime: 12:00 – 1:30 p.m. CST \nAPEX Accelerator: Evolving DoD Contractor Cybersecurity Requirements (Q1-2026 Update) \nDescription: The United States’ adversaries are actively working to steal the nation’s military and industrial competitive advantage. Today’s ubiquitous\, highly interconnected information systems make that theft easier than ever. The U.S. federal government recognizes the risk to sensitive information housed in contractors’ systems—such as Federal Contract Information (FCI) and Controlled Unclassified Information (CUI). As a result\, all federal contractors must implement basic cybersecurity requirements in the internal IT systems that process federal contract-related data. In addition\, contractors that handle information related to Department of Defense contracts must comply with DFARS clauses 252.204-7012 / 7019 / 7020 / 7021\, which require more advanced cybersecurity safeguards. These safeguards can be challenging for organizations of any size to implement. In this course\, Adam Austin\, Co-Founder\, Cybersecurity Lead\, and CTO of Totem Technologies\, will explain these requirements in layperson’s terms\, outline common implementation challenges\, and share resources to help you navigate the cybersecurity landscape. Target Audience: APEX Accelerator counselors\, MEP counselors\, DoD contract officers and program managers\, DoD contractors and IT staff\, IT managed service providers\, IT managed security service providers \nCost: Free \nLocation: Online \nQuestions contact: Veronica Doga\, vdoga@unomaha.edu 402-554-6253 \nRegistration Link: https://www.sba.gov/event/79974
URL:https://wdcsd.com/event/apex-accelerator-evolving-dod-contractor-cybersecurity-requirements-q1-2026-update/
END:VEVENT
END:VCALENDAR