BEGIN:VCALENDAR
VERSION:2.0
PRODID:-//Watertown Development Company - ECPv6.15.19//NONSGML v1.0//EN
CALSCALE:GREGORIAN
METHOD:PUBLISH
X-WR-CALNAME:Watertown Development Company
X-ORIGINAL-URL:https://wdcsd.com
X-WR-CALDESC:Events for Watertown Development Company
REFRESH-INTERVAL;VALUE=DURATION:PT1H
X-Robots-Tag:noindex
X-PUBLISHED-TTL:PT1H
BEGIN:VTIMEZONE
TZID:UTC
BEGIN:STANDARD
TZOFFSETFROM:+0000
TZOFFSETTO:+0000
TZNAME:UTC
DTSTART:20250101T000000
END:STANDARD
END:VTIMEZONE
BEGIN:VEVENT
DTSTART;TZID=UTC:20260224T120000
DTEND;TZID=UTC:20260224T133000
DTSTAMP:20260425T182427
CREATED:20260202T155607Z
LAST-MODIFIED:20260202T155607Z
UID:4971-1771934400-1771939800@wdcsd.com
SUMMARY:APEX Accelerator: How to Build a Strong Government Sales Strategy - 8 Core Activities (2026 Update)
DESCRIPTION:Tuesday\, February 24\, 2026 (Online Only) \nTime: 12:00 – 1:30 p.m. CST \nAPEX Accelerator: How to Build a Strong Government Sales Strategy – 8 Core Activities (2026 Update) \nDescription: In this fast-paced\, high-energy session\, Mr. Frank will show you how to build a sales strategy that actually wins in government contracting. You’ll learn how to identify who buys what you sell\, gather the right intelligence\, and position your solution to outmaneuver competitors—connecting the dots from targeting to capture to close. You will learn:  \n\nHow to research who buys what you sell\nWhy communicating quantifiable value is critical to prime and subcontracting efforts\nHow to position your company in the market\nHow to engage the market\nWhy you should consider teaming\nHow to build and manage your pipeline\nHow to manage your Bid – No Bid process\nPros and cons of different bid-matching and other contract management tools\n\nThis training provides award-winning tactics and strategies that have helped companies win over $14.6 billion in definitive contracts and more than $30 billion in multiple-award contracts. Target Audience: Business owners\, marketing\, sales\, and proposal personnel. \nCost: Free \nLocation: Online \nQuestions contact: Veronica Doga\, vdoga@unomaha.edu 402-554-6253 \nRegistration Link: https://www.sba.gov/event/79973
URL:https://wdcsd.com/event/apex-accelerator-how-to-build-a-strong-government-sales-strategy-8-core-activities-2026-update/
END:VEVENT
END:VCALENDAR