BEGIN:VCALENDAR
VERSION:2.0
PRODID:-//Watertown Development Company - ECPv6.15.19//NONSGML v1.0//EN
CALSCALE:GREGORIAN
METHOD:PUBLISH
X-WR-CALNAME:Watertown Development Company
X-ORIGINAL-URL:https://wdcsd.com
X-WR-CALDESC:Events for Watertown Development Company
REFRESH-INTERVAL;VALUE=DURATION:PT1H
X-Robots-Tag:noindex
X-PUBLISHED-TTL:PT1H
BEGIN:VTIMEZONE
TZID:UTC
BEGIN:STANDARD
TZOFFSETFROM:+0000
TZOFFSETTO:+0000
TZNAME:UTC
DTSTART:20250101T000000
END:STANDARD
END:VTIMEZONE
BEGIN:VEVENT
DTSTART;TZID=UTC:20260218T113000
DTEND;TZID=UTC:20260218T123000
DTSTAMP:20260425T201603
CREATED:20251217T220211Z
LAST-MODIFIED:20251217T220211Z
UID:4832-1771414200-1771417800@wdcsd.com
SUMMARY:SBA: Money Smart ~ Recordkeeping - As a Managerial Tool
DESCRIPTION:Boost your business success! Learn practical recordkeeping skills and tools to make smarter decisions and streamline your small business operations. \nThis session provides a practical overview of recordkeeping\, demonstrating how effective recordkeeping can drive better decision-making and long-term business success. \n• Understanding the concept of recordkeeping and its importance for small businesses \n• Identifying essential recordkeeping practices\, rules\, and tools available to small businesses \n• Learning how these recordkeeping methods and tools function in everyday operations \n• Discovering the key benefits that effective recordkeeping brings to small businesses \n• Grasping the basics of recordkeeping tailored to small business needs \n• Exploring software solutions designed to simplify small business recordkeeping \nRegister
URL:https://wdcsd.com/event/sba-money-smart-recordkeeping-as-a-managerial-tool/
END:VEVENT
BEGIN:VEVENT
DTSTART;TZID=UTC:20260218T113000
DTEND;TZID=UTC:20260218T123000
DTSTAMP:20260425T201603
CREATED:20260202T155314Z
LAST-MODIFIED:20260202T155314Z
UID:4961-1771414200-1771417800@wdcsd.com
SUMMARY:SBA: Money Smart ~ Recordkeeping - As a Managerial Tool
DESCRIPTION:Wednesday\, February 18\, 2026 (Online Only) \nTime: 11:30 a.m. – 12:30 p.m. CST \nSBA: Money Smart ~ Recordkeeping – As a Managerial Tool \nDescription: Boost your business success! Learn practical recordkeeping skills and tools to make smarter decisions and streamline your small business operations. This session provides a practical overview of recordkeeping\, demonstrating how effective recordkeeping can drive better decision-making and long-term business success. \n\n Understanding the concept of recordkeeping and its importance for small businesses\n Identifying essential recordkeeping practices\, rules\, and tools available to small businesses\n Learning how these recordkeeping methods and tools function in everyday operations\n Discovering the key benefits that effective recordkeeping brings to small businesses\n Grasping the basics of recordkeeping tailored to small business needs\n Exploring software solutions designed to simplify small business recordkeeping\n\nCost: Free \nLocation: Online \nQuestions contact: Jo Eckert\, Jo.Eckert@sba.gov 402-221-7200 \nRegistration Link: https://www.sba.gov/event/78132
URL:https://wdcsd.com/event/sba-money-smart-recordkeeping-as-a-managerial-tool-2/
END:VEVENT
END:VCALENDAR