BEGIN:VCALENDAR
VERSION:2.0
PRODID:-//Watertown Development Company - ECPv6.15.19//NONSGML v1.0//EN
CALSCALE:GREGORIAN
METHOD:PUBLISH
X-ORIGINAL-URL:https://wdcsd.com
X-WR-CALDESC:Events for Watertown Development Company
REFRESH-INTERVAL;VALUE=DURATION:PT1H
X-Robots-Tag:noindex
X-PUBLISHED-TTL:PT1H
BEGIN:VTIMEZONE
TZID:UTC
BEGIN:STANDARD
TZOFFSETFROM:+0000
TZOFFSETTO:+0000
TZNAME:UTC
DTSTART:20250101T000000
END:STANDARD
END:VTIMEZONE
BEGIN:VEVENT
DTSTART;TZID=UTC:20260217T120000
DTEND;TZID=UTC:20260217T133000
DTSTAMP:20260425T195803
CREATED:20260202T155232Z
LAST-MODIFIED:20260202T155232Z
UID:4959-1771329600-1771335000@wdcsd.com
SUMMARY:APEX Accelerator: Vendor Activation\, Visibility\, and Engagement Best Practices
DESCRIPTION:Tuesday\, February 17\, 2026 (Online Only) \nTime: 12:00 – 1:30 p.m. CST \nAPEX Accelerator: Vendor Activation\, Visibility\, and Engagement Best Practices \nDescription: Before you can gain visibility\, win contracts\, and get paid by government agencies or prime contractors\, you need to be properly set up as a vendor. Yet vendor registration and supplier onboarding are often misunderstood\, over-applied\, or treated as a box-checking exercise rather than a strategic business decision. This course explains the core principles of vendor activation and supplier onboarding—why registration exists\, when it’s required\, when it isn’t\, and how to determine what applies to your specific contracting path. Rather than focusing on a single system or form\, you’ll learn how vendor and supplier registrations function across federal\, state\, and local environments\, as well as within prime contractor vendor databases. You’ll also see how these registrations support not only eligibility but also payment\, vendor visibility and marketing\, sourcing\, and small-business utilization efforts. In this course\, you will learn: \n\nWhy vendor registration and supplier onboarding exist in the first place\nWhen registration is required—and when it may not be necessary\nHow to determine which registrations apply to your business and target buyers\nThe benefits of registration\nWhy maintaining and updating registrations is critical to remaining active and visible\nHow federal\, state\, and local vendor registration processes differ\nWhere to find trusted training\, resources\, and support for registration and onboarding\nWhy small business certifications and status matter in vendor and supplier systems\n\nThis course does not provide step-by-step instructions for completing specific registration systems. Instead\, it equips you with the knowledge to make informed decisions\, avoid unnecessary effort\, and take the right next step—whether that means formal registration\, subcontractor onboarding\, certification alignment\, or targeted guidance through additional training or local support resources. By the end of this course\, you’ll understand how vendor activation\, visibility\, and engagement work together to position your business for opportunity\, recognition\, and payment—without wasting time on registrations that don’t fit your strategy. Target Audience: Business owners\, BD\, marketing and sales personnel\, and anyone responsible for vendor registrations. \nCost: Free \nLocation: Online \nQuestions contact: Veronica Doga\, vdoga@unomaha.edu 402-554-6253 \nRegistration Link: https://www.sba.gov/event/79970
URL:https://wdcsd.com/event/apex-accelerator-vendor-activation-visibility-and-engagement-best-practices/
END:VEVENT
END:VCALENDAR