BEGIN:VCALENDAR
VERSION:2.0
PRODID:-//Watertown Development Company - ECPv6.15.19//NONSGML v1.0//EN
CALSCALE:GREGORIAN
METHOD:PUBLISH
X-ORIGINAL-URL:https://wdcsd.com
X-WR-CALDESC:Events for Watertown Development Company
REFRESH-INTERVAL;VALUE=DURATION:PT1H
X-Robots-Tag:noindex
X-PUBLISHED-TTL:PT1H
BEGIN:VTIMEZONE
TZID:UTC
BEGIN:STANDARD
TZOFFSETFROM:+0000
TZOFFSETTO:+0000
TZNAME:UTC
DTSTART:20250101T000000
END:STANDARD
END:VTIMEZONE
BEGIN:VEVENT
DTSTART;TZID=UTC:20260205T100000
DTEND;TZID=UTC:20260205T113000
DTSTAMP:20260425T195854
CREATED:20260202T154206Z
LAST-MODIFIED:20260202T154206Z
UID:4927-1770285600-1770291000@wdcsd.com
SUMMARY:SCORE: Writing a Winning Business Plan
DESCRIPTION:Thursday\, February 5\, 2026 (Online Only) \nTime: 10:00 – 11:30 a.m. CST \nSCORE: Writing a Winning Business Plan \nDescription: Learn the essential elements for preparing a plan for business success by identifying content and format for a business plan–including sources of information to aid in its development. You should understand that a business plan is a valuable internal tool\, even when not required for the benefit of investors or loan officers. A business plan may force you to think about your idea in new ways and to question the validity of your product/service target markets. It can serve as a guide or benchmark to allow you to track your progress and to stay committed to your long-term goals. If you have partners\, it can help avoid misunderstandings. It will help you to better describe and to speak more concisely about your company. All these elements of a business plan can contribute to successful implementation of your business idea. \nCost: $10.00 \nLocation: Online \nQuestions contact: Bill Grosskopf\, bill.grosskopf@scorevolunteer.org 630-842-3589 \nRegistration Link: https://www.sba.gov/event/80144
URL:https://wdcsd.com/event/score-writing-a-winning-business-plan-2/
END:VEVENT
BEGIN:VEVENT
DTSTART;TZID=UTC:20260205T110000
DTEND;TZID=UTC:20260205T123000
DTSTAMP:20260425T195854
CREATED:20260202T154244Z
LAST-MODIFIED:20260202T154244Z
UID:4929-1770289200-1770294600@wdcsd.com
SUMMARY:SCORE: Success Mindset Mastery ~ Unlock the Habits and Focus to Achieve Your Goals
DESCRIPTION:Thursday\, February 5\, 2026 (Online Only) \nTime: 11:00 a.m. – 12:30 p.m. CST \nSCORE: Success Mindset Mastery ~ Unlock the Habits and Focus to Achieve Your Goals \nDescription: Do you ever feel like you aren’t getting the results you want even though you are smart\, hardworking\, and good at what you do? Many times\, people are held back by unconscious patterns or beliefs they aren’t even aware of. In this workshop you will learn:  \n\nThree sources of mental blocks: When you identify where your blocks come from it makes it easier to shift them.\nSix common blocks: When you shift these blocks you unlock keys to your success.\nFive Success Mindset Tools: How to take action so that you reprogram your mindset for success.\nGoal\, Intentions\, and Visualization: These are the steps that create a habit where you see yourself in the future having achieved your goals. \n\nThis workshop is for anyone who wants to bring more success into their life or business. It’s especially helpful for those who feel stuck and unsure about how to move forward. You will learn about old thought patterns that need to shift\, so that you can get the results you know you are capable of accomplishing.  \nCost: Free \nLocation: Online \nQuestions contact: SCORE Twin Cities\, twincities@scorevolunteer.org 630-842-3589 \nRegistration Link: https://www.sba.gov/event/80145
URL:https://wdcsd.com/event/score-success-mindset-mastery-unlock-the-habits-and-focus-to-achieve-your-goals/
END:VEVENT
BEGIN:VEVENT
DTSTART;TZID=UTC:20260205T120000
DTEND;TZID=UTC:20260205T130000
DTSTAMP:20260425T195854
CREATED:20260202T154317Z
LAST-MODIFIED:20260202T154317Z
UID:4931-1770292800-1770296400@wdcsd.com
SUMMARY:SCORE: How OB3 Impacts Your Taxes ~ Protect Your Business & Maximize Deductions
DESCRIPTION:Thursday\, February 5\, 2026 (Online Only) \nTime: 12:00 – 1:00 p.m. CST \nSCORE: How OB3 Impacts Your Taxes ~ Protect Your Business & Maximize Deductions \nDescription: The One Big Beautiful Bill (OB3) brings sweeping tax changes that could affect your business deductions\, investment opportunities\, and cash flow. Whether you work with contractors\, use payment apps\, or run a pass-through business\, understanding what’s changing could help you maximize new opportunities and avoid costly surprises next tax season. In this webinar\, advisors from Block Advisors by H&R Block\, will break down the most important OB3 tax updates affecting small businesses. The session focuses on when key provisions take effect\, how these changes may impact reporting\, deductions\, and overall tax planning\, and what steps you should consider now to keep your business compliant and prepared. Learn about changes to: \n\n1099-K\, 1099-NEC\, and 1099-MISC reporting thresholds\nBonus depreciation guidelines\nSection 179 phaseout amounts and Qualified Business Income deduction limits\nResearch & development deductions\nRules around Qualified Small Business Stock (QSBS)\n\nCost: Free \nLocation: Online \nQuestions contact: SCORE\, 800-634-0245 \nRegistration Link: https://www.sba.gov/event/80146
URL:https://wdcsd.com/event/score-how-ob3-impacts-your-taxes-protect-your-business-maximize-deductions/
END:VEVENT
END:VCALENDAR