BEGIN:VCALENDAR
VERSION:2.0
PRODID:-//Watertown Development Company - ECPv6.15.19//NONSGML v1.0//EN
CALSCALE:GREGORIAN
METHOD:PUBLISH
X-ORIGINAL-URL:https://wdcsd.com
X-WR-CALDESC:Events for Watertown Development Company
REFRESH-INTERVAL;VALUE=DURATION:PT1H
X-Robots-Tag:noindex
X-PUBLISHED-TTL:PT1H
BEGIN:VTIMEZONE
TZID:UTC
BEGIN:STANDARD
TZOFFSETFROM:+0000
TZOFFSETTO:+0000
TZNAME:UTC
DTSTART:20250101T000000
END:STANDARD
END:VTIMEZONE
BEGIN:VEVENT
DTSTART;TZID=UTC:20260128T080000
DTEND;TZID=UTC:20260128T170000
DTSTAMP:20260425T202441
CREATED:20260105T195812Z
LAST-MODIFIED:20260105T195812Z
UID:4879-1769587200-1769619600@wdcsd.com
SUMMARY:Veteran Business Outreach Center: Reboot to Business (Virtual Only)
DESCRIPTION:Wednesday\, January 28\, 2026 (Online) \nTime: 8:00 a.m. – 5:00 p.m. CST \nVeteran Business Outreach Center: Reboot to Business (Virtual Only) \nDescription: Boots to Business | Reboot provides assistance to anyone interested in exploring business ownership or other self-employment opportunities by leading participants through the key steps for evaluating business concepts and providing foundational knowledge required to develop a business plan. \nCost: Free \nLocation: Online \nQuestions contact: Emmalee Scheibe\, emmalees@nebbiz.org 402-685-5500 \nRegistration Link: https://www.sba.gov/event/77370
URL:https://wdcsd.com/event/veteran-business-outreach-center-reboot-to-business-virtual-only-2/
END:VEVENT
BEGIN:VEVENT
DTSTART;TZID=UTC:20260128T113000
DTEND;TZID=UTC:20260128T123000
DTSTAMP:20260425T202441
CREATED:20251217T220447Z
LAST-MODIFIED:20251217T220447Z
UID:4838-1769599800-1769603400@wdcsd.com
SUMMARY:SBA: Money Smart ~ Banking Services: Available for Small Business
DESCRIPTION:Learn about small business banking\, financing options\, and fraud prevention in this practical workshop designed to help your business thrive. \nThis comprehensive training is divided into three key sections: \n1. The first section explores a diverse range of banking services available to entrepreneurs\, including advanced account features like reporting and bundling\, innovative payment solutions\, and merchant services that can support business growth. \n2. The second section delves into various financing options and funding sources\, comparing what banks and alternative lenders can provide to help businesses succeed. \n3. The third section offers practical guidance on safeguarding your business by recognizing and preventing fraud and scams. \nRegister
URL:https://wdcsd.com/event/sba-money-smart-banking-services-available-for-small-business/
END:VEVENT
BEGIN:VEVENT
DTSTART;TZID=UTC:20260128T113000
DTEND;TZID=UTC:20260128T123000
DTSTAMP:20260425T202441
CREATED:20260105T195851Z
LAST-MODIFIED:20260105T195851Z
UID:4881-1769599800-1769603400@wdcsd.com
SUMMARY:sba: Money Smart ~ Banking Services: Available for Small Business
DESCRIPTION:Wednesday\, January 28\, 2026 (Online) \nTime: 11:30 a.m. – 12:30 p.m. CST \nSBA: Money Smart ~ Banking Services: Available for Small Business \nDescription: Learn about small business banking\, financing options\, and fraud prevention in this practical workshop designed to help your business thrive. This comprehensive training is divided into three key sections: \n1. The first section explores a diverse range of banking services available to entrepreneurs\, including advanced account features like reporting and bundling\, innovative payment solutions\, and merchant services that can support business growth. \n2. The second section delves into various financing options and funding sources\, comparing what banks and alternative lenders can provide to help businesses succeed. \n3. The third section offers practical guidance on safeguarding your business by recognizing and preventing fraud and scams. \nCost: Free \nLocation: Online \nQuestions contact: Jo Eckert\, Jo.Eckert@sba.gov 402-221-7200 \nRegistration Link: https://www.sba.gov/event/78129
URL:https://wdcsd.com/event/sba-money-smart-banking-services-available-for-small-business-2/
END:VEVENT
END:VCALENDAR