BEGIN:VCALENDAR
VERSION:2.0
PRODID:-//Watertown Development Company - ECPv6.15.19//NONSGML v1.0//EN
CALSCALE:GREGORIAN
METHOD:PUBLISH
X-WR-CALNAME:Watertown Development Company
X-ORIGINAL-URL:https://wdcsd.com
X-WR-CALDESC:Events for Watertown Development Company
REFRESH-INTERVAL;VALUE=DURATION:PT1H
X-Robots-Tag:noindex
X-PUBLISHED-TTL:PT1H
BEGIN:VTIMEZONE
TZID:UTC
BEGIN:STANDARD
TZOFFSETFROM:+0000
TZOFFSETTO:+0000
TZNAME:UTC
DTSTART:20250101T000000
END:STANDARD
END:VTIMEZONE
BEGIN:VEVENT
DTSTART;TZID=UTC:20260122T120000
DTEND;TZID=UTC:20260122T133000
DTSTAMP:20260425T220605
CREATED:20260105T195725Z
LAST-MODIFIED:20260105T195725Z
UID:4877-1769083200-1769088600@wdcsd.com
SUMMARY:score: Major SEO Changes in 2026: Will Your Website Still Get Found?
DESCRIPTION:Thursday\, January 22\, 2026 (Online) \nTime: 12:00 – 1:30 p.m. CST \nSCORE: Major SEO Changes in 2026: Will Your Website Still Get Found? \nDescription: Search is changing faster than ever. As AI-powered results\, zero-click searches\, and new ranking signals become more common\, many small businesses are starting to see shifts in website traffic. What worked for SEO in the past may not be enough to keep your website found in 2026. In this webinar\, our expert presenter Jennifer DeRosa will break down the biggest SEO changes coming in 2026 and explain how AI-driven search is reshaping how websites are discovered. You’ll also learn where Generative Engine Optimization (GEO) fits into the future of search\, and what small businesses should focus on now to stay visible online. What You’ll Learn: \n• The biggest SEO changes expected in 2026\n• How AI-powered search results affect website visibility\n• What GEO is and why it matters for small businesses\n• What still works from traditional SEO (and what doesn’t)\n• Practical steps to help your website stay discoverable\n• How to prepare your content for future search behavior\nCost: $20.00 \nLocation: Online \nQuestions contact: SCORE\, 800-634-0245 \nRegistration Link: https://www.sba.gov/event/78618
URL:https://wdcsd.com/event/score-major-seo-changes-in-2026-will-your-website-still-get-found/
END:VEVENT
BEGIN:VEVENT
DTSTART;TZID=UTC:20260122T153000
DTEND;TZID=UTC:20260122T170000
DTSTAMP:20260425T220605
CREATED:20260113T183320Z
LAST-MODIFIED:20260113T183320Z
UID:4891-1769095800-1769101200@wdcsd.com
SUMMARY:Idea to Market: 8-Week Program
DESCRIPTION:Idea to Market: 8-Week Program\n\nThursday\, January 22\, 2026 3:30 PM\nThursday\, March 12\, 2026 4:30 PM\n\n\nBusiness and Health Innovation Center\, Northern State University 1200 South Jay Street Aberdeen\, SD\, 57401United States (map)\n\n\n\n\n\n\n\n\n\n \n\n\n\n\n\n\n\n\n\n\nParticipants will gain invaluable support\, insights\, and connections to effectively launch a startup business from scratch through this free 8-week program. \nMeeting every Thursday from 3:30 – 5:00 PM between January 22nd and March 12th. \n\n\n\n\n\nRegister Here\n\n\n\n\n\nZoom available! \n\n\n\n\n\n\n\n\nWeek 1: January 22 \n\n\nWeek 2: January 29 \n\n\nWeek 3: February 5 \n\n\nWeek 4: February 12 \n\n\nWeek 5: February 19 \n\n\nWeek 6: February 26 \n\n\nWeek 7: March 5 \n\n\nWeek 8: March 12 \n\n\n\nLed by Northern State University Professors\, Dr. Sal Villages and Dr. Hannah Walters.
URL:https://wdcsd.com/event/idea-to-market-8-week-program/
END:VEVENT
END:VCALENDAR