BEGIN:VCALENDAR
VERSION:2.0
PRODID:-//Watertown Development Company - ECPv6.15.19//NONSGML v1.0//EN
CALSCALE:GREGORIAN
METHOD:PUBLISH
X-WR-CALNAME:Watertown Development Company
X-ORIGINAL-URL:https://wdcsd.com
X-WR-CALDESC:Events for Watertown Development Company
REFRESH-INTERVAL;VALUE=DURATION:PT1H
X-Robots-Tag:noindex
X-PUBLISHED-TTL:PT1H
BEGIN:VTIMEZONE
TZID:UTC
BEGIN:STANDARD
TZOFFSETFROM:+0000
TZOFFSETTO:+0000
TZNAME:UTC
DTSTART:20250101T000000
END:STANDARD
END:VTIMEZONE
BEGIN:VEVENT
DTSTART;TZID=UTC:20260115T120000
DTEND;TZID=UTC:20260115T130000
DTSTAMP:20260425T215636
CREATED:20260105T195233Z
LAST-MODIFIED:20260105T195233Z
UID:4865-1768478400-1768482000@wdcsd.com
SUMMARY:GROW Nebraska: Grow Through What You Go Through ~ The F.O.R.E. Framework for Reinvention and Resilience
DESCRIPTION:Thursday\, January 15\, 2026 (Online) \nTime: 12:00 – 1:00 p.m. CST \nGROW Nebraska: Grow Through What You Go Through ~ The F.O.R.E. Framework for Reinvention and Resilience \nDescription: In a world where change is constant and setbacks are inevitable\, the ability to reinvent with purpose is no longer optional — it’s essential. This dynamic webinar introduces the F.O.R.E. Framework: a strategic\, emotionally intelligent approach to navigating uncertainty\, reigniting momentum\, and leading with clarity. Whether you’re a small business owner facing market shifts\, a community leader driving local impact\, or a coach guiding others through transformation\, this session offers actionable insights and tools to help you: \n– Find Your Bearings in the fog of change \n– Orient Your Values to lead with integrity and purpose \n– Reinvention by Design using modular strategies that scale \n– Engage Forward with habits that build resilience and trust \nThrough metaphor-rich storytelling and real-world examples\, Brian Zuger will guide you through the F.O.R.E. process — empowering you to turn setbacks into strategic breakthroughs.Join us to grow through what you go through — and lead forward with confidence. Can’t attend? Register anyway and we’ll send you the recording! \n \nCost: Free \nLocation: Online \nQuestions contact: Cammie Kroll info@grownebraska.org 308-338-3520 \nRegistration Link: https://www.sba.gov/event/78566
URL:https://wdcsd.com/event/grow-nebraska-grow-through-what-you-go-through-the-f-o-r-e-framework-for-reinvention-and-resilience/
END:VEVENT
BEGIN:VEVENT
DTSTART;TZID=UTC:20260115T120000
DTEND;TZID=UTC:20260115T133000
DTSTAMP:20260425T215636
CREATED:20260105T195319Z
LAST-MODIFIED:20260105T195319Z
UID:4867-1768478400-1768483800@wdcsd.com
SUMMARY:score: The Small Business Website Essentials: Attract\, Engage and Convert
DESCRIPTION:Thursday\, January 15\, 2026 (Online) \nTime: 12:00 – 1:30 p.m. CST \nSCORE: The Small Business Website Essentials: Attract\, Engage and Convert \nDescription: Are visitors landing on your site and leaving right away? Every lost visitor is a missed opportunity that can add up fast. The problem isn’t a lack of interest in your product or service\, but that your website is missing the fundamental elements every website needs to build trust\, drive conversions\, and support SEO performance. In this webinar\, our marketing expert Tim Contado will show you what your website needs to attract visitors\, earn trust\, and convert interest into sales. You’ll learn practical steps to improve your site’s structure\, messaging\, and calls-to-action. By the end\, you will have clear and actionable steps to make quick website improvements that work. What You’ll Learn: \n• The essential pages every business website must have and what each should accomplish\n• How to clearly communicate what you do\, who you serve\, and why it matters\n• What a “basic SEO-friendly structure” really means in 2025\n• How to identify where visitors drop off and how to fix it\n• Simple\, effective calls-to-action that guide visitors naturally\n• The trust-building details that make your business look credible and legitimate\n• How to evaluate your website objectively and prioritize high-impact fixes\nCost: $20.00 \nLocation: Online \nQuestions contact: SCORE 800-634-0245 \nRegistration Link: https://www.sba.gov/event/78617
URL:https://wdcsd.com/event/score-the-small-business-website-essentials-attract-engage-and-convert/
END:VEVENT
BEGIN:VEVENT
DTSTART;TZID=UTC:20260115T130000
DTEND;TZID=UTC:20260115T140000
DTSTAMP:20260425T215636
CREATED:20260105T195357Z
LAST-MODIFIED:20260105T195357Z
UID:4869-1768482000-1768485600@wdcsd.com
SUMMARY:APEX Accelerator: Cybersecurity Resilience for Government Contractors
DESCRIPTION:Thursday\, January 15\, 2026 (Online) \nTime: 1:00 – 2:00 p.m. CST \nAPEX Accelerator: Cybersecurity Resilience for Government Contractors \nDescription: This webinar will seek to increase organization’s incident response readiness using a realistic breach scenario. More information and registration coming soon. Instructions: Register for the event! Each webinar will require pre-registration. Please note this event does not accept registration just yet. \nCost: Free \nLocation: Online \nQuestions contact: Veronica Doga\, vdoga@unomaha.edu 402-554-6250 \nRegistration Link: https://www.sba.gov/event/77372
URL:https://wdcsd.com/event/apex-accelerator-cybersecurity-resilience-for-government-contractors/
END:VEVENT
BEGIN:VEVENT
DTSTART;TZID=UTC:20260115T153000
DTEND;TZID=UTC:20260115T173000
DTSTAMP:20260425T215636
CREATED:20260113T183113Z
LAST-MODIFIED:20260113T183113Z
UID:4889-1768491000-1768498200@wdcsd.com
SUMMARY:Idea Workshop
DESCRIPTION:Idea Workshop\n\nThursday\, January 15\, 2026\n3:30 PM  5:00 PM\n\n\nBusiness & Health Innovation Center\, Northern State University1200 S Jay Street Aberdeen\, SD\, 57401United States (map)\n\n\n\n\n\n\n\n\n\n \n\n\n\n\n\n\n\n\n\n\nHave an idea for a product\, service\, app\, non-profit\, or event\, but don’t know where to start? This free 90-minute workshop lets you explore entrepreneurship and innovation—no experience required! \nLed by Northern State University Professors\, Dr. Sal Villegas and Dr. Hannah Walters. \n\n\n\n\n\nRegister Here
URL:https://wdcsd.com/event/idea-workshop/
END:VEVENT
END:VCALENDAR