BEGIN:VCALENDAR
VERSION:2.0
PRODID:-//Watertown Development Company - ECPv6.15.19//NONSGML v1.0//EN
CALSCALE:GREGORIAN
METHOD:PUBLISH
X-WR-CALNAME:Watertown Development Company
X-ORIGINAL-URL:https://wdcsd.com
X-WR-CALDESC:Events for Watertown Development Company
REFRESH-INTERVAL;VALUE=DURATION:PT1H
X-Robots-Tag:noindex
X-PUBLISHED-TTL:PT1H
BEGIN:VTIMEZONE
TZID:UTC
BEGIN:STANDARD
TZOFFSETFROM:+0000
TZOFFSETTO:+0000
TZNAME:UTC
DTSTART:20240101T000000
END:STANDARD
END:VTIMEZONE
BEGIN:VEVENT
DTSTART;TZID=UTC:20251216T090000
DTEND;TZID=UTC:20251216T103000
DTSTAMP:20260425T234626
CREATED:20251201T150430Z
LAST-MODIFIED:20251201T150430Z
UID:4807-1765875600-1765881000@wdcsd.com
SUMMARY:SCORE: How to Project Cash Flow to Run or Save Your Business
DESCRIPTION:Tuesday\, December 16\, 2025 (Online Only) \nTime: 9:00 – 10:30 a.m. CST \nSCORE: How to Project Cash Flow to Run or Save Your Business \nDescription: In today’s business environment\, it is crucial to understand and manage cash flow effectively. Our workshop will help you interpret bank information and accounting software to run your business more efficiently. You will learn: \n\nWhy cash is so important to understand and manage in the current business environment\nHow to interpret bank information and accounting software to run your business\nHow to project your cash flow in order to take action and avoid running out of cash\n\nCost: Free \nLocation: Online \nQuestions contact: SCORE Twin Cities\, twincities@scorevolunteer.org 952-938-4570 \nRegistration Link: https://www.sba.gov/event/77417
URL:https://wdcsd.com/event/score-how-to-project-cash-flow-to-run-or-save-your-business-2/
END:VEVENT
BEGIN:VEVENT
DTSTART;TZID=UTC:20251216T120000
DTEND;TZID=UTC:20251216T130000
DTSTAMP:20260425T234626
CREATED:20251201T150604Z
LAST-MODIFIED:20251201T150604Z
UID:4812-1765886400-1765890000@wdcsd.com
SUMMARY:SCORE: Game-Changing AI Tools – Automate Tasks\, Create Content Faster & Grow Your Business
DESCRIPTION:Tuesday\, December 16\, 2025 (Online Only) \nTime: 12:00 pm to 1:00 pm CST \nSCORE: Game-Changing AI Tools – Automate Tasks\, Create Content Faster & Grow Your Business \nDescription: Small business owners spend countless hours on marketing and sales tasks that don’t move the needle forward. But with the right AI tools\, you can simplify your workflow\, eliminate busy work\, and see faster results without needing to be tech-savvy. In this webinar\, our expert presenter\, Jam Anderson\, founder of Jam AI\, will introduce practical AI tools that make running your business easier. You’ll see how AI can support your daily operations\, spark fresh content ideas\, enhance your customer outreach\, and give you more time to focus on the work that actually moves your business forward. You’ll learn: \n\nBeginner-friendly AI tools that support everyday business tasks\nSee a live demonstration of how these AI tools work in real time\nHow to automate time-consuming sales and marketing tasks\nHow to Create scroll-stopping content in minutes\nHow to use AI insights to attract better customers and boost conversions\n\nCost: Free \nLocation: Online \nQuestions contact: SCORE\, 800-634-0245 \nRegistration Link: https://www.sba.gov/event/77410
URL:https://wdcsd.com/event/score-game-changing-ai-tools-automate-tasks-create-content-faster-grow-your-business/
END:VEVENT
END:VCALENDAR