BEGIN:VCALENDAR
VERSION:2.0
PRODID:-//Watertown Development Company - ECPv6.15.19//NONSGML v1.0//EN
CALSCALE:GREGORIAN
METHOD:PUBLISH
X-WR-CALNAME:Watertown Development Company
X-ORIGINAL-URL:https://wdcsd.com
X-WR-CALDESC:Events for Watertown Development Company
REFRESH-INTERVAL;VALUE=DURATION:PT1H
X-Robots-Tag:noindex
X-PUBLISHED-TTL:PT1H
BEGIN:VTIMEZONE
TZID:UTC
BEGIN:STANDARD
TZOFFSETFROM:+0000
TZOFFSETTO:+0000
TZNAME:UTC
DTSTART:20240101T000000
END:STANDARD
END:VTIMEZONE
BEGIN:VEVENT
DTSTART;TZID=UTC:20251211T080000
DTEND;TZID=UTC:20251211T170000
DTSTAMP:20260425T234658
CREATED:20251201T150208Z
LAST-MODIFIED:20251201T150208Z
UID:4801-1765440000-1765472400@wdcsd.com
SUMMARY:Veteran Business Outreach Center: Reboot to Business (Virtual Only)
DESCRIPTION:Thursday\, December 11\, 2025 (Online Only) \nTime: 8:00 a.m. – 5:00 p.m. CST \nVeteran Business Outreach Center: Reboot to Business (Virtual Only) \nDescription: Boots to Business | Reboot provides assistance to anyone interested in exploring business ownership or other self-employment opportunities by leading participants through the key steps for evaluating business concepts and providing foundational knowledge required to develop a business plan. \nCost: Free \nLocation: Online \nQuestions contact: Emmalee Scheibe\, emmalees@nebbiz.org 402-685-5500 \nRegistration Link: https://www.sba.gov/event/77369
URL:https://wdcsd.com/event/veteran-business-outreach-center-reboot-to-business-virtual-only/
END:VEVENT
BEGIN:VEVENT
DTSTART;TZID=UTC:20251211T100000
DTEND;TZID=UTC:20251211T113000
DTSTAMP:20260425T234658
CREATED:20251201T150255Z
LAST-MODIFIED:20251201T150255Z
UID:4803-1765447200-1765452600@wdcsd.com
SUMMARY:SCORE: QuickBooks Online
DESCRIPTION:Thursday\, December 11\, 2025 (Online Only) \nTime: 10:00 – 11:30 a.m. CST \nSCORE: QuickBooks Online \nDescription: Do you approach bookkeeping like going to the Dentist\, such as . . . it’s not your favorite task\, it’s easy to put off\, and it’s less painful when done on a regular basis? Lisa Peterson will take you on a practical tour of what is most important for small business owners when it comes to their finances\, and she will describe the help that QuickBooks can provide. Topics include: What is a Balance Sheet and Profit & Loss? What is cash basis accounting vs. accrual accounting? Lisa will also answer the question of why you should care about understanding your finances and who else cares about your books – it is not just about you! This is a basic but engaging discussion about: chart of accounts\, how to account for products and services\, understanding the sales cycle\, and how to account for expenses\, including payroll. Most importantly\, you will learn when you should look for accounting advice vs doing your books yourself. \nCost: Free \nLocation: Online \nQuestions contact: SCORE Twin Cities\, twincities@scorevolunteer.org 952-938-4570 \nRegistration Link: https://www.sba.gov/event/77416
URL:https://wdcsd.com/event/score-quickbooks-online-3/
END:VEVENT
BEGIN:VEVENT
DTSTART;TZID=UTC:20251211T120000
DTEND;TZID=UTC:20251211T130000
DTSTAMP:20260425T234658
CREATED:20251201T150341Z
LAST-MODIFIED:20251201T150341Z
UID:4805-1765454400-1765458000@wdcsd.com
SUMMARY:GROW Nebraska: Big Changes\, Big Opportunities ~ What the New Tax Updates Mean for Your Business
DESCRIPTION:Thursday\, December 11\, 2025 (Online Only) \nTime: 12:00 – 1:00 p.m. CST \nGROW Nebraska: Big Changes\, Big Opportunities ~ What the New Tax Updates Mean for Your Business \nDescription: If you own a small business\, the tax landscape just shifted—mostly in your favor. Join Tanya Luken CPA for a one-hour crash course on how the new tax updates affect your 2025 and beyond. We’ll unpack the good stuff in plain English: \n\nExpanded childcare credits and simpler 1099 rules\nNew tip and overtime deductions that could change your payroll strategy\nThe now permanent (and slightly bigger) 199A deduction for pass-throughs\nHigher write-offs for equipment\, software\, and improvements\nNew limits on SALT workarounds and what that means for planning Plan smarter\, saving money\, and staying ahead of the changes.\n\nBring your questions and leave with clarity. Can’t attend? Register anyway and we’ll send you the recording! \nCost: Free \nLocation: Online \nQuestions contact: Tonja or Cammie\, member@grownebraska.org 308-338-3520 \nRegistration Link: https://www.sba.gov/event/77102
URL:https://wdcsd.com/event/grow-nebraska-big-changes-big-opportunities-what-the-new-tax-updates-mean-for-your-business/
END:VEVENT
BEGIN:VEVENT
DTSTART;TZID=UTC:20251211T120000
DTEND;TZID=UTC:20251211T130000
DTSTAMP:20260425T234658
CREATED:20251201T150517Z
LAST-MODIFIED:20251201T150517Z
UID:4810-1765454400-1765458000@wdcsd.com
SUMMARY:SCORE: Email Marketing Strategies Part 1: How to Get More Email Subscribers Across Every Channel
DESCRIPTION:Thursday\, December 11\, 2025 (Online Only) \nTime: 12:00 pm to 1:00 pm CST \nSCORE: Email Marketing Strategies Part 1: How to Get More Email Subscribers Across Every Channel \nDescription: This session is Part 1 of our Email Marketing Strategies series. To access this webinar and Part 2\, you’ll need to purchase the complete course. Your email list is one of your most valuable business assets\, but many small business owners struggle to grow it consistently. If your list isn’t expanding with engaged\, high-quality subscribers\, you’re missing out on a reliable driver of business growth. In this session\, our expert will walk you through proven methods to capture more sign-ups and build a steady\, sustainable list-building plan. You’ll learn how to build an engaged subscriber base\, overcome common growth challenges\, and capture more sign-ups across every channel. You’ll learn: \n\nWhy a strong subscriber base fuels business growth\nCommon Challenges & How to Overcome Them\nHow to build a list of engaged\, interested subscribers\nStrategies for in-person\, online\, and print sign-ups\nMotivating Sign-Ups with Value – What makes people want to subscribe and stay engaged\n\nCost: Free \nLocation: Online \nQuestions contact: SCORE\, 800-634-0245 \nRegistration Link: https://www.sba.gov/event/77409
URL:https://wdcsd.com/event/score-email-marketing-strategies-part-1-how-to-get-more-email-subscribers-across-every-channel/
END:VEVENT
END:VCALENDAR