BEGIN:VCALENDAR
VERSION:2.0
PRODID:-//Watertown Development Company - ECPv6.15.19//NONSGML v1.0//EN
CALSCALE:GREGORIAN
METHOD:PUBLISH
X-WR-CALNAME:Watertown Development Company
X-ORIGINAL-URL:https://wdcsd.com
X-WR-CALDESC:Events for Watertown Development Company
REFRESH-INTERVAL;VALUE=DURATION:PT1H
X-Robots-Tag:noindex
X-PUBLISHED-TTL:PT1H
BEGIN:VTIMEZONE
TZID:UTC
BEGIN:STANDARD
TZOFFSETFROM:+0000
TZOFFSETTO:+0000
TZNAME:UTC
DTSTART:20240101T000000
END:STANDARD
END:VTIMEZONE
BEGIN:VEVENT
DTSTART;TZID=UTC:20251209T113000
DTEND;TZID=UTC:20251209T123000
DTSTAMP:20260425T234658
CREATED:20251201T145651Z
LAST-MODIFIED:20251201T145651Z
UID:4789-1765279800-1765283400@wdcsd.com
SUMMARY:Entrepreneur's Education Collaborative: Pricing Strategies
DESCRIPTION:Tuesday\, December 9\, 2025 (Hybrid – both In-Person & Online THIS LINK IS ONLINE ATTENDANCE ONLY) \nTime: 11:30 a.m. – 12:30 p.m. CST \nEntrepreneur’s Education Collaborative: Pricing Strategies \nDescription: As a small business owner\, you know pricing is everything. Get it wrong\, and you risk profits\, cash flow\, and even your brand. Join the Entrepreneur’s Education Collaborative (EEC) for an engaging hybrid panel session designed to take the guesswork out of your pricing and discover the power of effective pricing to drive profitability and growth. ➡️ Learn from Real-World Expertise – Your time is valuable\, so we’ve assembled a panel that brings a 360-degree view of successful pricing: \n◾ Victoria Mbachu: A successful Small Business Owner who lives and breathes pricing decisions daily. \n◾ Dr. Derek Kruse: A Creighton University Instructor specializing in Strategic Marketing and Pricing\, providing the academic framework. \n◾ Jay Froscheiser: A SCORE Volunteer with experience as a Retiree Executive Official from DTN\, LLC\, offering high-level strategy insights. \nCost: Free (IF JOINING ONLINE) \nLocation: Online \nQuestions contact: Kiley Phelps\, kcphelps@unomaha.edu \nRegistration Link: https://www.sba.gov/event/77379 \n  \n 
URL:https://wdcsd.com/event/entrepreneurs-education-collaborative-pricing-strategies/
END:VEVENT
BEGIN:VEVENT
DTSTART;TZID=UTC:20251209T113000
DTEND;TZID=UTC:20251209T123000
DTSTAMP:20260425T234658
CREATED:20251201T145749Z
LAST-MODIFIED:20251201T145749Z
UID:4791-1765279800-1765283400@wdcsd.com
SUMMARY:Entrepreneur's Education Collaborative: Pricing Strategies
DESCRIPTION:Tuesday\, December 9\, 2025 (Hybrid – both In-Person & Online – THIS LINK IS FOR IN-PERSON ATTENDANCE ONLY) \nTime: 11:30 a.m. – 12:30 p.m. CST \nEntrepreneur’s Education Collaborative: Pricing Strategies \nDescription: Stop Leaving Money on the Table! Master Your Pricing Strategy 💰. As a small business owner\, you know pricing is everything. Get it wrong\, and you risk profits\, cash flow\, and even your brand. Join the Entrepreneur’s Education Collaborative (EEC) for an engaging hybrid panel session designed to take the guesswork out of your pricing and discover the power of effective pricing to drive profitability and growth. ➡️ Learn from Real-World Expertise – Your time is valuable\, so we’ve assembled a panel that brings a 360-degree view of successful pricing: \n◾ Victoria Mbachu: A successful Small Business Owner who lives and breathes pricing decisions daily. \n◾ Dr. Derek Kruse: A Creighton University Instructor specializing in Strategic Marketing and Pricing\, providing the academic framework. \n◾ Jay Froscheiser: A SCORE Volunteer with experience as a Retiree Executive Official from DTN\, LLC\, offering high-level strategy insights. \nCost: $20.00 (IF ATTENDING IN-PERSON) \nLocation: MCL Construction\, 14558 Portal Circle\, Omaha\, NE 68138 \nQuestions contact: Kiley Phelps\, kcphelps@unomaha.edu \nRegistration Link: https://www.sba.gov/event/77380
URL:https://wdcsd.com/event/entrepreneurs-education-collaborative-pricing-strategies-2/
END:VEVENT
BEGIN:VEVENT
DTSTART;TZID=UTC:20251209T120000
DTEND;TZID=UTC:20251209T130000
DTSTAMP:20260425T234658
CREATED:20251201T145838Z
LAST-MODIFIED:20251201T145838Z
UID:4793-1765281600-1765285200@wdcsd.com
SUMMARY:SCORE: The 3 Marketing Strategies That Actually Work: Advertising\, Content Creation & Direct Marketing
DESCRIPTION:Tuesday\, December 9\, 2025 (Online Only) \nTime: 12:00 – 1:00 p.m. CST \nSCORE: The 3 Marketing Strategies That Actually Work: Advertising\, Content Creation & Direct Marketing \nDescription: Many small business owners feel overwhelmed by marketing\, and for good reason. You’re surrounded by tools\, trends and conflicting advice with no clear playbook for choosing what works for your business. Without a strategy\, every tactic feels like a gamble\, and results become random instead of reliable. In this session\, our expert will break down the three marketing strategies that consistently work for small businesses and how to choose the one that fits your goals\, industry\, and customer base. You’ll learn why your tactics haven’t delivered predictable results\, how the marketing process works\, and which strategy gives you the fastest path to traction and measurable growth. You’ll learn: \n\nWhy marketing feels overwhelming and how to cut through the noise\nThe real reason your tactics haven’t created consistent results\nThe proven marketing process behind predictable\, repeatable outcomes\nThe three marketing strategies that consistently work for small businesses\nWhich strategy best fits your business\, audience\, and time/budget\nReal-world examples of each strategy in action\n\nCost: Free \nLocation: Online \nQuestions contact: SCORE\, 800-634-0245 \nRegistration Link: https://www.sba.gov/event/77408
URL:https://wdcsd.com/event/score-the-3-marketing-strategies-that-actually-work-advertising-content-creation-direct-marketing/
END:VEVENT
BEGIN:VEVENT
DTSTART;TZID=UTC:20251209T120000
DTEND;TZID=UTC:20251209T133000
DTSTAMP:20260425T234658
CREATED:20251201T145924Z
LAST-MODIFIED:20251201T145924Z
UID:4795-1765281600-1765287000@wdcsd.com
SUMMARY:SCORE: Growing Your Business With a CRM
DESCRIPTION:Tuesday\, December 9\, 2025 (Online Only) \nTime: 12:00 – 1:30 p.m. CST \nSCORE: Growing Your Business With a CRM \nDescription: This is for business owners who are looking to get organized and gain insights into how prospects and customers are engaging with your marketing\, sales\, and service efforts. We will dig into what a Customer Relationship Management (CRM) tool is and the habits and processes that complement the technology. We will look at what structures are needed in order to attract more prospects\, engage and convert more leads\, and delight your customers. \nCost: Free \nLocation: Online \nQuestions contact: SCORE Twin Cities\, twincities@scorevolunteer.org 952-938-4570 \nRegistration Link: https://www.sba.gov/event/77415
URL:https://wdcsd.com/event/score-growing-your-business-with-a-crm-3/
END:VEVENT
BEGIN:VEVENT
DTSTART;TZID=UTC:20251209T180000
DTEND;TZID=UTC:20251209T200000
DTSTAMP:20260425T234658
CREATED:20251201T150023Z
LAST-MODIFIED:20251201T150023Z
UID:4797-1765303200-1765310400@wdcsd.com
SUMMARY:Center For Rural Affairs: Tax Readiness - Online - 12/9/25\, 12/11/25 & 1/13/26
DESCRIPTION:Tuesday\, December 9\, 2025\, Thursday\, December 11\, 2025 and Tuesday\, January 13\, 2026 (Online Only) MULTI EVENING COURSE \nTime: 6:00 – 8:00 p.m. CST \nCenter For Rural Affairs: Tax Readiness – Online – 12/9/25\, 12/11/25 & 1/13/26 \nDescription: Are you looking ahead to tax season? Small business owners are invited to attend this multi-session tax preparation event. During these online courses\, you will learn about financial statements\, the difference between personal and business taxes\, pass-through entities\, and more. Other key discussion topics include: \n\nHow to classify employees and subcontractors\nChanges to the 1099-NEC threshold\nThe importance of having separate bank accounts\nTax changes to be aware of for 2025 and forward\nNebraska Healthy Families and Workplaces Act\n\nCost: Free \nLocation: Online \nQuestions contact: Jessica Campos\, jessicac@cfra.org 402-554-6250 \nRegistration Link: https://www.sba.gov/event/77377
URL:https://wdcsd.com/event/center-for-rural-affairs-tax-readiness-online-12-9-25-12-11-25-1-13-26/
END:VEVENT
END:VCALENDAR