BEGIN:VCALENDAR
VERSION:2.0
PRODID:-//Watertown Development Company - ECPv6.15.19//NONSGML v1.0//EN
CALSCALE:GREGORIAN
METHOD:PUBLISH
X-WR-CALNAME:Watertown Development Company
X-ORIGINAL-URL:https://wdcsd.com
X-WR-CALDESC:Events for Watertown Development Company
REFRESH-INTERVAL;VALUE=DURATION:PT1H
X-Robots-Tag:noindex
X-PUBLISHED-TTL:PT1H
BEGIN:VTIMEZONE
TZID:UTC
BEGIN:STANDARD
TZOFFSETFROM:+0000
TZOFFSETTO:+0000
TZNAME:UTC
DTSTART:20240101T000000
END:STANDARD
END:VTIMEZONE
BEGIN:VEVENT
DTSTART;TZID=UTC:20251204T090000
DTEND;TZID=UTC:20251204T100000
DTSTAMP:20260425T234626
CREATED:20251201T145221Z
LAST-MODIFIED:20251201T145221Z
UID:4779-1764838800-1764842400@wdcsd.com
SUMMARY:APEX Accelerator: Intro to Federal Government Contracting
DESCRIPTION:Thursday\, December 4\, 2025 (Online Only) \nTime: 9:00 – 9:45 a.m. CST \nAPEX Accelerator: Intro to Federal Government Contracting \nDescription: Unlock Opportunities in Government Contracting – In 2023\, the Federal Government spent approximately $745 billion on government contracts. Yes\, that’s billion with a “B.” The U.S. Government is the largest buyer of goods and services in the world\, with an expansive range of needs—from office supplies and construction services to technology solutions and specialized equipment. Is your business ready to tap into this lucrative market? Join us for an insightful and practical webinar hosted by the Nebraska APEX Accelerator and presented by Lisa Tedesco from the Omaha Small Business Administration (SBA). This recurring bi-monthly event offers an introduction to the world of government contracting—a space where small businesses can thrive and scale. During this session\, you’ll gain valuable insights into:  \n\nNavigating government requirements and certifications\nEssential websites and resources for contracting opportunities\nKey steps to determine if government contracting aligns with your business goals\n\nWhether you’re just starting to explore government sales or looking to expand your current market\, this webinar provides the foundational knowledge to help you make informed decisions. Don’t miss this opportunity to learn how to position your business for success in the federal marketplace. \nEvent information: The event details will be sent to you in a registration confirmation email after registering. The webinar link for the webinar will be provided to you in your registration confirmation email. Additionally\, you can click “Add to Calendar” at the top of the registration page after registering to add the event info (date\, time\, location\, and virtual option link) directly to your eCalendar. \nCost: Free \nLocation: Online \nQuestions contact: Veronica Doga\, vdoga@unomaha.edu 402-554-6250 \nRegistration Link: https://www.sba.gov/event/77371
URL:https://wdcsd.com/event/apex-accelerator-intro-to-federal-government-contracting-4/
END:VEVENT
BEGIN:VEVENT
DTSTART;TZID=UTC:20251204T120000
DTEND;TZID=UTC:20251204T130000
DTSTAMP:20260425T234626
CREATED:20251201T145307Z
LAST-MODIFIED:20251201T145307Z
UID:4781-1764849600-1764853200@wdcsd.com
SUMMARY:GROW Nebraska: GROW Your Business with AI-Powered Tools by Google
DESCRIPTION:Thursday\, December 4\, 2025 (Online Only) \nTime: 12:00 – 1:00 p.m. CST \nGROW Nebraska: GROW Your Business with AI-Powered Tools by Google \nDescription: Artificial Intelligence (AI) is a powerful technology that can help simplify business tasks and create new opportunities for small businesses and entrepreneurs – but knowing how to use it may seem out of reach. Developed with input from experts at Google\, this workshop will explain the basics of AI and how AI-powered tools by Google can help small businesses be more efficient\, enhance customer experiences\, and drive growth. Can’t attend? Register anyway and we’ll send you the recording! \nCost: Free \nLocation: Online \nQuestions contact: Tonja or Cammie\, member@grownebraska.org 308-338-3520 \nRegistration Link: https://www.sba.gov/event/77105
URL:https://wdcsd.com/event/grow-nebraska-grow-your-business-with-ai-powered-tools-by-google/
END:VEVENT
BEGIN:VEVENT
DTSTART;TZID=UTC:20251204T120000
DTEND;TZID=UTC:20251204T130000
DTSTAMP:20260425T234626
CREATED:20251201T145354Z
LAST-MODIFIED:20251201T145354Z
UID:4783-1764849600-1764853200@wdcsd.com
SUMMARY:SCORE: Email Strategy for Revenue Growth – Build Your List\, Create Better Emails\, Convert Customers
DESCRIPTION:Thursday\, December 4\, 2025 (Online Only) \nTime: 12:00 – 1:00 p.m. CST \nSCORE: Email Strategy for Revenue Growth – Build Your List\, Create Better Emails\, Convert Customers \nDescription: Many small business owners recognize the importance of email marketing\, but without a well-defined plan\, it can become overwhelming. What should be sent? How do you get people to sign up? And how do you make sure it’s actually driving business? In this webinar\, you’ll learn how to build proven strategies and tactics to harness the power of the inbox as a powerful growth engine for your business. From improving your website so visitors subscribe\, to designing emails people actually want to read\, you’ll walk away knowing exactly what to do next. You’ll learn how to: \n\nMaster the foundations of online marketing and build a winning strategy\nOptimize your website to complement your email campaigns\nLeverage listings & reviews to enhance credibility and attract more customers\nDesign compelling emails that captivate your audience and drive action\nIntegrate social media & email to expand your reach and boost engagement\nMeasure success & refine your approach for consistent growth\n\nUp Next: Take your learning further with the two-part live series\, Email Marketing Strategies: Get More Email Subscribers and Boost Email Engagement. Email remains one of the most powerful revenue-driving tools available to small business owners\, but only when you know how to use it strategically. This two-part series will teach you how to grow a high-quality subscriber list and turn those subscribers into paying customers. Register for this free session to receive an exclusive discount code for the series. \nCost: Free \nLocation: Online \nQuestions contact: SCORE\, 800-634-0245 \nRegistration Link: https://www.sba.gov/event/77407
URL:https://wdcsd.com/event/score-email-strategy-for-revenue-growth-build-your-list-create-better-emails-convert-customers/
END:VEVENT
BEGIN:VEVENT
DTSTART;TZID=UTC:20251204T120000
DTEND;TZID=UTC:20251204T133000
DTSTAMP:20260425T234626
CREATED:20251201T145457Z
LAST-MODIFIED:20251201T145457Z
UID:4785-1764849600-1764855000@wdcsd.com
SUMMARY:SCORE: Three (3) Presentations You Need to Build Your Brand
DESCRIPTION:Thursday\, December 4\, 2025 (Online Only) \nTime: 12:00 – 1:30 p.m. CST \nSCORE: Three (3) Presentations You Need to Build Your Brand \nDescription: 59 percent of B2B decision-makers believe a company’s thought leadership content better demonstrates its capabilities than its marketing material. Why\, then\, would you focus all of your time on social media marketing? Public speaking is the most cost effective way to cultivate your brand and build brand awareness\, so you can connect with potential clients\, partners and sponsors. In this interactive session\, international speaker Jenn will identify 3 key presentations that grow your thought leadership and build your brand. We will explore the unique purpose\, content\, and delivery you need for each one. You will walk away knowing: \n\nHow to establish your credibility and expertise in a crowded market\nKey elements of persuasive storytelling\nPowerful calls to action that have your audience talking about you\n\nCost: Free \nLocation: Online \nQuestions contact: SCORE Twin Cities\, twincities@scorevolunteer.org 952-938-4570 \nRegistration Link: https://www.sba.gov/event/77414
URL:https://wdcsd.com/event/score-three-3-presentations-you-need-to-build-your-brand/
END:VEVENT
BEGIN:VEVENT
DTSTART;TZID=UTC:20251204T180000
DTEND;TZID=UTC:20251204T203000
DTSTAMP:20260425T234626
CREATED:20251201T145553Z
LAST-MODIFIED:20251201T145553Z
UID:4787-1764871200-1764880200@wdcsd.com
SUMMARY:GROW Nebraska Women's Business Center: The M.A.K.S. Method: Simple Tracking\, Strategic Success
DESCRIPTION:Thursday\, December 4\, 2025 (In-Person Only) \nTime: 6:00 – 8:30 p.m. CST \nGROW Nebraska Women’s Business Center: The M.A.K.S. Method: Simple Tracking\, Strategic Success \nDescription: Join GNWBC and Irene & Vernon Tryon of YBusiness Solutions to learn how their M.A.K.S. Tax app can help you monitor your financial habits! This workshop will cover a range of recordkeeping strategies to ensure IRS Compliance and Tax Readiness for entrepreneurs. Can you easily prove your deductions if the IRS asks? Do you know which expenses are “business-qualified” v.s. personal? Then M.A.K.S. may be right for you! \n*Simplify your expense tracking system \n*Develop grant-ready organization skills \n*Build confidence in your recordkeeping \nCost: Free \nLocation: The Commonwealth 5425 N 103rd St.\, Omaha\, NE 68134 \nQuestions contact: Nekola Distefano\, contact@gnwbc.org 402-300-8170 \nRegistration Link: https://www.sba.gov/event/77367
URL:https://wdcsd.com/event/grow-nebraska-womens-business-center-the-m-a-k-s-method-simple-tracking-strategic-success/
END:VEVENT
END:VCALENDAR