BEGIN:VCALENDAR
VERSION:2.0
PRODID:-//Watertown Development Company - ECPv6.15.19//NONSGML v1.0//EN
CALSCALE:GREGORIAN
METHOD:PUBLISH
X-WR-CALNAME:Watertown Development Company
X-ORIGINAL-URL:https://wdcsd.com
X-WR-CALDESC:Events for Watertown Development Company
REFRESH-INTERVAL;VALUE=DURATION:PT1H
X-Robots-Tag:noindex
X-PUBLISHED-TTL:PT1H
BEGIN:VTIMEZONE
TZID:UTC
BEGIN:STANDARD
TZOFFSETFROM:+0000
TZOFFSETTO:+0000
TZNAME:UTC
DTSTART:20240101T000000
END:STANDARD
END:VTIMEZONE
BEGIN:VEVENT
DTSTART;TZID=UTC:20250430T090000
DTEND;TZID=UTC:20250430T160000
DTSTAMP:20260425T144331
CREATED:20250328T183723Z
LAST-MODIFIED:20250328T183723Z
UID:4059-1746003600-1746028800@wdcsd.com
SUMMARY:Supply Chain Symposium
DESCRIPTION:Welcome to the Supply Chain Symposium! Join us at The Lab in The Steel District on Wed Apr 30 2025 at 9:00 AM for a day filled with insightful discussions\, networking opportunities\, and industry trends. This event is perfect for anyone interested in learning more about supply chain management and connecting with professionals in the field. Don’t miss out on this chance to expand your knowledge and grow your network! \nhttps://www.eventbrite.com/e/supply-chain-symposium-tickets-1297403862879?aff=oddtdtcreator
URL:https://wdcsd.com/event/supply-chain-symposium/
LOCATION:“The Lab” The Steel District\, 505 North Metli Place\, Sioux Falls\, SD\, 57104\, United States
END:VEVENT
BEGIN:VEVENT
DTSTART;TZID=UTC:20250430T110000
DTEND;TZID=UTC:20250430T123000
DTSTAMP:20260425T144331
CREATED:20250423T212549Z
LAST-MODIFIED:20250423T212549Z
UID:4161-1746010800-1746016200@wdcsd.com
SUMMARY:Simple Systems to Save 10+ Hours a Week in Your Business
DESCRIPTION:About the event\n\n\n\nTired of doing the same tasks over and over again in your business? \nJoin us for a fast-paced\, beginner-friendly session designed to help you work smarter — not harder. This webinar will introduce you to simple\, low-cost tools and automations that can save you 10+ hours a week — even if you’re not tech-savvy. \nYou’ll learn: \n\nWhere most small business owners waste time without realizing it\nEasy automations you can set up in under an hour\nHow to use AI tools like ChatGPT to streamline your emails\, content\, and admin\nReal-world examples from businesses just like yours\n\nWhether you’re a solo entrepreneur or managing a small team\, you’ll walk away with practical ideas and free tools you can start using right away\, no coding required. \nPresented by: Alex Storey \nAlex Storey is the founder of Skill Mammoth Digital\, a Minnesota-based firm that helps small businesses save time and scale smarter through workflow automation\, AI tools\, and system design.. \nLink to register: https://www.score.org/twincities/event/simple-systems-save-10-hours-a-week-your-business
URL:https://wdcsd.com/event/simple-systems-to-save-10-hours-a-week-in-your-business/
END:VEVENT
END:VCALENDAR