BEGIN:VCALENDAR
VERSION:2.0
PRODID:-//Watertown Development Company - ECPv6.15.19//NONSGML v1.0//EN
CALSCALE:GREGORIAN
METHOD:PUBLISH
X-ORIGINAL-URL:https://wdcsd.com
X-WR-CALDESC:Events for Watertown Development Company
REFRESH-INTERVAL;VALUE=DURATION:PT1H
X-Robots-Tag:noindex
X-PUBLISHED-TTL:PT1H
BEGIN:VTIMEZONE
TZID:UTC
BEGIN:STANDARD
TZOFFSETFROM:+0000
TZOFFSETTO:+0000
TZNAME:UTC
DTSTART:20240101T000000
END:STANDARD
END:VTIMEZONE
BEGIN:VEVENT
DTSTART;TZID=UTC:20250422T110000
DTEND;TZID=UTC:20250422T120000
DTSTAMP:20260425T162519
CREATED:20250415T180503Z
LAST-MODIFIED:20250415T180503Z
UID:4125-1745319600-1745323200@wdcsd.com
SUMMARY:SBA Money Smart: Selling Your Business and Succession Planning: Developing an Exit Strategy for Your Business
DESCRIPTION:Event description\nJoin the Nebraska/South Dakota/Oklahoma District Offices of the U.S. Small Business Administration for an instructor-led webinar series\, Money Smart\, designed for new or operating small business owners ~ with or without formal business training. This series provides a practical introduction to aspects of starting and managing a business. The curriculum is developed jointly by the FIDC and the SBA. \nThe curriculum includes twelve modules. All sessions will be virtual only\, running every Tuesday beginning February 4\, 2025 through April 22\, 2025 from 11AM CDT to 12PM CDT. The last session in the Money Smart Webinar Series is: \n4/22/25 Selling Your Business and Succession Planning: Developing an Exit Strategy for \nYour Business. \nWe look forward to seeing you! \nRegister(Link is external)
URL:https://wdcsd.com/event/sba-money-smart-selling-your-business-and-succession-planning-developing-an-exit-strategy-for-your-business/
END:VEVENT
BEGIN:VEVENT
DTSTART;TZID=UTC:20250422T180000
DTEND;TZID=UTC:20250422T190000
DTSTAMP:20260425T162519
CREATED:20250415T180810Z
LAST-MODIFIED:20250415T180810Z
UID:4129-1745344800-1745348400@wdcsd.com
SUMMARY:SBA Strengthen your property with SBA mitigation assistance - virtual webinar
DESCRIPTION:Event description\nThe U.S. Small Business Administration is hosting a virtual Information Session where you’ll learn: \n\nHow to protect your home or business from the next disaster.\nHow additional SBA disaster loan options can be used to strengthen your property.\nExamples of mitigation strategies with industry experts from FEMA.\n\nThese sessions are designed to provide SBA borrowers and future borrowers\, with the information and guidance on the SBA disaster loan option. This option allows property owners to add funds to their SBA physical disaster loans – up to 20% of the verified loss – to mitigate their property from any future peril. \nThe application period for SBA’s physical disaster loans has been extended through April 27. \nRead more about SBA mitigation assistance. \nRegister(Link is external)
URL:https://wdcsd.com/event/sba-strengthen-your-property-with-sba-mitigation-assistance-virtual-webinar/
END:VEVENT
BEGIN:VEVENT
DTSTART;TZID=UTC:20250422T190000
DTEND;TZID=UTC:20250422T200000
DTSTAMP:20260425T162519
CREATED:20250414T161935Z
LAST-MODIFIED:20250414T161935Z
UID:4104-1745348400-1745352000@wdcsd.com
SUMMARY:Coding Game Night
DESCRIPTION:Join East Central AEYC at one these three locations to explore coding with preschool aged children! Coding helps take the fear out of making mistakes or failing. It teaches persistence in finding a way to solve your problem. We will engage in conversation and \nconnection while learning more about South Dakota AEYC. \nLocation: \n\n\n\n\nWatertown – Audrey Rider SDSU Extension\n1910 West Kemp Ave (Entrance B) \naudrey.rider@sdstate.edu \n\n\n\n\nCoding Game Night (2)
URL:https://wdcsd.com/event/coding-game-night/
LOCATION:SDSU Extension\, 1910 West Kemp Ave\, Watertown\, SD\, 57201\, United States
ORGANIZER;CN="SDSU Extension":MAILTO:audrey.rider@sdstate.edu
END:VEVENT
END:VCALENDAR